BEGIN:VCALENDAR
VERSION:2.0
PRODID:-//Library Market//iCal Export//EN
BEGIN:VEVENT
SUMMARY:City of Yonkers-Disaster Preparedness Training
UID:110170
DTSTAMP:20260426T022600Z
DTSTART:20260505T230000Z
DTEND:20260506T000000Z
LOCATION:Grinton I. Will Library, 1500 Central Park Avenue, Yonkers, NY 10
 710, United States
ROOM: Will Auditorium
DESCRIPTION:Disaster Preparedness Training
URL:https://www.ypl.org/event/city-yonkers-disaster-preparedness-training-
 110170
END:VEVENT
END:VCALENDAR
