BEGIN:VCALENDAR
VERSION:2.0
PRODID:-//Library Market//iCal Export//EN
BEGIN:VEVENT
SUMMARY:Strings Attached Guitar Group
UID:110176
DTSTAMP:20260426T022600Z
DTSTART:20260504T220000Z
DTEND:20260504T233000Z
LOCATION:Grinton I. Will Library, 1500 Central Park Avenue, Yonkers, NY 10
 710, United States
ROOM: Will Auditorium
DESCRIPTION:Come get together twice a month to jam with fellow guitarists 
 and share techniques. Brining your own instrument is required. 
URL:https://www.ypl.org/event/strings-attached-guitar-group-110176
END:VEVENT
END:VCALENDAR
