BEGIN:VCALENDAR
VERSION:2.0
PRODID:-//Library Market//iCal Export//EN
BEGIN:VEVENT
SUMMARY:May the 4th Be With You: Star Wars Day
UID:110181
DTSTAMP:20260425T024000Z
DTSTART:20260504T213000Z
DTEND:20260504T230000Z
LOCATION:Yonkers Public Library, One Larkin Center, Yonkers, NY 10701, Uni
 ted States
ROOM: Riverfront Room 202 (2nd Floor)
DESCRIPTION:Join us for a galaxy-sized celebration of Star Wars! Kids are 
 invited to sit back, relax, and enjoy a fun-filled Star Wars movie. Feel f
 ree to come dressed as your favorite character and may the Force be with y
 ou!
URL:https://www.ypl.org/event/may-4th-be-you-star-wars-day-110181
END:VEVENT
END:VCALENDAR
