BEGIN:VCALENDAR
VERSION:2.0
PRODID:-//Library Market//iCal Export//EN
BEGIN:VEVENT
SUMMARY:Get Your Garden Rollin&#039;
UID:110201
DTSTAMP:20260426T022600Z
DTSTART:20260508T173000Z
DTEND:20260508T190000Z
LOCATION:Yonkers Public Library, One Larkin Center, Yonkers, NY 10701, Uni
 ted States
ROOM: Riverfront Table Space 3
DESCRIPTION:The participants will learn hands-on how to start planting for
  the season and will go home with planted seeds.
URL:https://www.ypl.org/event/get-your-garden-rollin-110201
END:VEVENT
END:VCALENDAR
