BEGIN:VCALENDAR
VERSION:2.0
PRODID:-//Library Market//iCal Export//EN
BEGIN:VEVENT
SUMMARY:Westchester County Coin Club
UID:60491
DTSTAMP:20260421T182600Z
DTSTART:20260430T210000Z
DTEND:20260430T234500Z
LOCATION:Grinton I. Will Library, 1500 Central Park Avenue, Yonkers, NY 10
 710, United States
ROOM: Will Senator Flynn Room
DESCRIPTION:Monthly  meeting
URL:https://www.ypl.org/event/westchester-county-coin-club-60491
END:VEVENT
END:VCALENDAR
