BEGIN:VCALENDAR
VERSION:2.0
PRODID:-//Library Market//iCal Export//EN
BEGIN:VEVENT
SUMMARY:KOROK Cultural Association
UID:89220
DTSTAMP:20260423T073300Z
DTSTART:20260502T170000Z
DTEND:20260503T000000Z
LOCATION:Grinton I. Will Library, 1500 Central Park Avenue, Yonkers, NY 10
 710, United States
ROOM: Will Auditorium
DESCRIPTION:Movie screening
URL:https://www.ypl.org/event/korok-cultural-association-89220
END:VEVENT
END:VCALENDAR
