BEGIN:VCALENDAR
VERSION:2.0
PRODID:-//Library Market//iCal Export//EN
BEGIN:VEVENT
SUMMARY:The Gourmet Gang Cooking Club
UID:93050
DTSTAMP:20260421T184400Z
DTSTART:20260514T183000Z
DTEND:20260514T193000Z
LOCATION:Grinton I. Will Library, 1500 Central Park Avenue, Yonkers, NY 10
 710, United States
ROOM: Will Conference Room
DESCRIPTION:Calling all food lovers, avid cooks, and beginner chefs!Join u
 s each month for a fun filled potluck to enjoy delicious dishes with frien
 ds old &amp; new, and share cooking tips and tricks.  All recipes will be
  chosen the month prior, and cooking must be done at home. For May&#039;s 
 potluck, choose any recipe from any cookbook created by Jamie Oliver (it&#
 039;s his birthday this month!). 
URL:https://www.ypl.org/event/gourmet-gang-cooking-club-93050
END:VEVENT
END:VCALENDAR
