BEGIN:VCALENDAR
VERSION:2.0
PRODID:-//Library Market//iCal Export//EN
BEGIN:VEVENT
SUMMARY:Healthy Eating with Tina McGeough
UID:96328
DTSTAMP:20260421T215700Z
DTSTART:20260528T160000Z
DTEND:20260528T170000Z
LOCATION:Grinton I. Will Library, 1500 Central Park Avenue, Yonkers, NY 10
 710, United States
ROOM: Will Lower Lobby - Inside
DESCRIPTION:Tina McGeough, a Stop &amp; Shop Registered Dietitian, will sh
 are simple recipes and discuss how they can support and benefit your healt
 h.Enjoy a cooking demonstration and free giveaways! 
URL:https://www.ypl.org/event/tina-mcgeough-96328
END:VEVENT
END:VCALENDAR
